BEGIN:VCALENDAR
VERSION:2.0
PRODID:-//wp-events-plugin.com//7.2.3.1//EN
TZID:America/Denver
X-WR-TIMEZONE:America/Denver
BEGIN:VEVENT
UID:1-124@wnmu.edu
DTSTART;TZID=America/Denver:20260401T120000
DTEND;TZID=America/Denver:20260401T160000
DTSTAMP:20260331T221347Z
URL:https://wnmu.edu/events/202912-2/
SUMMARY:Mobile Food Pantry
DESCRIPTION:Round up for our Mobile Food Pantry! Come by on Wednesday\, Apr
 il 1st from 12PM-1PM in the Student Life Lounge to get some FREE groceries
 .
ATTACH;FMTTYPE=image/jpeg:https://wnmu.edu/wp-content/uploads/2026/03/mobi
 le-pantry-flyer-4.1.26-.jpg
LOCATION:Pool Patio\, 1000 W. College Ave.\, Silver City\, NM\, 88061\, Uni
 ted States
X-APPLE-STRUCTURED-LOCATION;VALUE=URI;X-ADDRESS=1000 W. College Ave.\, Silv
 er City\, NM\, 88061\, United States;X-APPLE-RADIUS=100;X-TITLE=Pool Patio
 :geo:0,0
END:VEVENT
BEGIN:VTIMEZONE
TZID:America/Denver
X-LIC-LOCATION:America/Denver
BEGIN:DAYLIGHT
DTSTART:20260308T030000
TZOFFSETFROM:-0700
TZOFFSETTO:-0600
TZNAME:MDT
END:DAYLIGHT
END:VTIMEZONE
END:VCALENDAR