BEGIN:VCALENDAR
VERSION:2.0
PRODID:-//wp-events-plugin.com//7.2.3.1//EN
TZID:America/Denver
X-WR-TIMEZONE:America/Denver
BEGIN:VEVENT
UID:1-134@wnmu.edu
DTSTART;TZID=America/Denver:20260428T090000
DTEND;TZID=America/Denver:20260429T150000
DTSTAMP:20260401T215833Z
URL:https://wnmu.edu/events/21st-academic-research-symposium-career-fair/
SUMMARY:21st Academic Research Symposium + Career Fair
DESCRIPTION:The Symposium and Career Fair Committee invites students to par
 ticipate in this year’s Spring Symposium and Spring Career Fair. These e
 vents provide valuable opportunities to present academic work\, share rese
 arch\, and connect with potential employers.\nFaculty and staff are encour
 aged to support student participation.\n\nSpring Symposium\nEvent Format\n
 \n 	Tuesday\, April 28\, 2026 – In PersonPresentations and poster sessio
 nOn-campus students are encouraged (or required) to participate in person.
 \n 	Wednesday\, April 29\, 2026 – OnlineRemote students are encouraged t
 o participate.\n\nProposal Submission\nStudents interested in presenting m
 ay submit a proposal using the form below:\nSubmit Symposium Proposalhttps
 ://form.jotform.com/260816507558161\nSpring Career Fair\nDate: Wednesday\,
  April 22\, 2026\nTime: 11:00 AM – 2:00 PM\nFormat: In person\nStudents 
 will have the opportunity to interact with employers and explore career op
 portunities.\n&nbsp\;
ATTACH;FMTTYPE=image/jpeg:https://wnmu.edu/wp-content/uploads/2026/04/Stud
 ent-Symposium-Spring-202667.jpg
CATEGORIES:Current Students,Symposium
END:VEVENT
BEGIN:VTIMEZONE
TZID:America/Denver
X-LIC-LOCATION:America/Denver
BEGIN:DAYLIGHT
DTSTART:20260308T030000
TZOFFSETFROM:-0700
TZOFFSETTO:-0600
TZNAME:MDT
END:DAYLIGHT
END:VTIMEZONE
END:VCALENDAR