BEGIN:VCALENDAR
VERSION:2.0
PRODID:-//wp-events-plugin.com//7.2.3.1//EN
TZID:America/Denver
X-WR-TIMEZONE:America/Denver
BEGIN:VEVENT
UID:1-126@wnmu.edu
DTSTART;TZID=America/Denver:20260407T150000
DTEND;TZID=America/Denver:20260407T170000
DTSTAMP:20260331T221347Z
URL:https://wnmu.edu/events/academic-jeopardy/
SUMMARY:Academic Jeopardy
DESCRIPTION:Join our Tutor Center for a night of fun and trivia! Meet us in
  the Seminar Room on the 3rd floor of the SMB on April 7th from  3-5PM. W
 e will have food\, tutors\, and of course a game of jeopardy. Grab a frien
 d and we will see you there!
ATTACH;FMTTYPE=image/jpeg:https://wnmu.edu/wp-content/uploads/2026/03/Acad
 emicJeopardy_Spring2026.png
LOCATION:Francis McCray Building Print Room (#105)\, 101-237 W Rhoda Rd\, S
 ilver City\, New Mexico\, 88061\, United States
X-APPLE-STRUCTURED-LOCATION;VALUE=URI;X-ADDRESS=101-237 W Rhoda Rd\, Silver
  City\, New Mexico\, 88061\, United States;X-APPLE-RADIUS=100;X-TITLE=Fran
 cis McCray Building Print Room (#105):geo:0,0
END:VEVENT
BEGIN:VTIMEZONE
TZID:America/Denver
X-LIC-LOCATION:America/Denver
BEGIN:DAYLIGHT
DTSTART:20260308T030000
TZOFFSETFROM:-0700
TZOFFSETTO:-0600
TZNAME:MDT
END:DAYLIGHT
END:VTIMEZONE
END:VCALENDAR