BEGIN:VCALENDAR
VERSION:2.0
PRODID:-//wp-events-plugin.com//7.2.3.1//EN
TZID:America/Denver
X-WR-TIMEZONE:America/Denver
BEGIN:VEVENT
UID:1-127@wnmu.edu
DTSTART;TZID=America/Denver:20260413T100000
DTEND;TZID=America/Denver:20260413T120000
DTSTAMP:20260413T161718Z
URL:https://wnmu.edu/events/great-race-59-chalk-art-challenge-2/
SUMMARY:Great Race 59: Chalk Art Challenge
DESCRIPTION:In this event\, each team will be required to create a work of 
 art with chalk! They must also include some surprise elements into their a
 rtwork. Check these teams out on Monday\, April 13th at 10AM at Regent's S
 quare.
ATTACH;FMTTYPE=image/jpeg:https://wnmu.edu/wp-content/uploads/2026/03/GR-C
 halk-Art-Challenge.jpg
CATEGORIES:Great Race
LOCATION:Parotti Hall\, 1000 West College \, Silver City \, New Mexico \, 8
 8061\, United States
X-APPLE-STRUCTURED-LOCATION;VALUE=URI;X-ADDRESS=1000 West College \, Silver
  City \, New Mexico \, 88061\, United States;X-APPLE-RADIUS=100;X-TITLE=Pa
 rotti Hall:geo:0,0
END:VEVENT
BEGIN:VTIMEZONE
TZID:America/Denver
X-LIC-LOCATION:America/Denver
BEGIN:DAYLIGHT
DTSTART:20260308T030000
TZOFFSETFROM:-0700
TZOFFSETTO:-0600
TZNAME:MDT
END:DAYLIGHT
END:VTIMEZONE
END:VCALENDAR