BEGIN:VCALENDAR
VERSION:2.0
PRODID:-//wp-events-plugin.com//7.2.3.1//EN
TZID:America/Denver
X-WR-TIMEZONE:America/Denver
BEGIN:VEVENT
UID:1-128@wnmu.edu
DTSTART;TZID=America/Denver:20260413T140000
DTEND;TZID=America/Denver:20260413T160000
DTSTAMP:20260413T161718Z
URL:https://wnmu.edu/events/great-race-59-chopped-cooking-challenge-2/
SUMMARY:Great Race 59: Chopped Cooking Challenge
DESCRIPTION:In this event\, teams must use surprise ingredients to cook our
  judges an amazing dish. They will have a preset time limit and will be ju
 dged on different qualities of their dish. Tune in on Monday\, April 13th 
 at 2PM on the pool patio.
ATTACH;FMTTYPE=image/jpeg:https://wnmu.edu/wp-content/uploads/2026/03/Chop
 ped-Up-Challenge-Great-Race-56.jpg
CATEGORIES:Great Race
LOCATION:Fine Arts Center Theater\, 1102 N Kentucky St #1100\, Silver City\
 , New Mexico\, 88061\, United States
X-APPLE-STRUCTURED-LOCATION;VALUE=URI;X-ADDRESS=1102 N Kentucky St #1100\, 
 Silver City\, New Mexico\, 88061\, United States;X-APPLE-RADIUS=100;X-TITL
 E=Fine Arts Center Theater:geo:0,0
END:VEVENT
BEGIN:VTIMEZONE
TZID:America/Denver
X-LIC-LOCATION:America/Denver
BEGIN:DAYLIGHT
DTSTART:20260308T030000
TZOFFSETFROM:-0700
TZOFFSETTO:-0600
TZNAME:MDT
END:DAYLIGHT
END:VTIMEZONE
END:VCALENDAR