BEGIN:VCALENDAR
VERSION:2.0
PRODID:-//wp-events-plugin.com//7.2.3.1//EN
TZID:America/Denver
X-WR-TIMEZONE:America/Denver
BEGIN:VEVENT
UID:1-130@wnmu.edu
DTSTART;TZID=America/Denver:20260415T150000
DTEND;TZID=America/Denver:20260415T170000
DTSTAMP:20260413T161718Z
URL:https://wnmu.edu/events/great-race-59-mens-volleyball-game-2/
SUMMARY:Great Race 59: Men's Volleyball Game
DESCRIPTION:After the ladies compete for the gold\, they turn it over to th
 e men. In this next challenge\, teams must get their best guys together fo
 r a men's volleyball game. Watch them compete on Wednesday\, April 15th at
  3PM on Drag's Court in the PE Complex.
ATTACH;FMTTYPE=image/jpeg:https://wnmu.edu/wp-content/uploads/2026/03/Gree
 n-Orange-Beige-Retro-Volleyball-Tournament-Flyer-A4-Document.jpg
CATEGORIES:Great Race
LOCATION:Ben Altamirano Football Field\, 1000 W. College Ave.\, Silver City
 \, NM\, 88061\, United States
X-APPLE-STRUCTURED-LOCATION;VALUE=URI;X-ADDRESS=1000 W. College Ave.\, Silv
 er City\, NM\, 88061\, United States;X-APPLE-RADIUS=100;X-TITLE=Ben Altami
 rano Football Field:geo:0,0
END:VEVENT
BEGIN:VTIMEZONE
TZID:America/Denver
X-LIC-LOCATION:America/Denver
BEGIN:DAYLIGHT
DTSTART:20260308T030000
TZOFFSETFROM:-0700
TZOFFSETTO:-0600
TZNAME:MDT
END:DAYLIGHT
END:VTIMEZONE
END:VCALENDAR