BEGIN:VCALENDAR
VERSION:2.0
PRODID:-//wp-events-plugin.com//7.2.3.1//EN
TZID:America/Denver
X-WR-TIMEZONE:America/Denver
BEGIN:VEVENT
UID:1-129@wnmu.edu
DTSTART;TZID=America/Denver:20260415T100000
DTEND;TZID=America/Denver:20260415T120000
DTSTAMP:20260413T161718Z
URL:https://wnmu.edu/events/great-race-59-powderpuff-flag-football-game-2/
SUMMARY:Great Race 59: PowderPuff Flag Football Game
DESCRIPTION:Ladies come front and center! In this nail-biting event\, women
  on each team will compete in a single elimination flag football tournamen
 t. Come watch these strong ladies compete on Wednesday\, April 15th at 1oA
 M at the WNMU football field.
ATTACH;FMTTYPE=image/jpeg:https://wnmu.edu/wp-content/uploads/2026/03/Blue
 -and-Grey-Minimalist-Sport-Womens-Football-Poster.jpg
CATEGORIES:Great Race
LOCATION:WNMU Drag's Court\, 1000 West Colege Ave\, Silver City\, New Mexic
 o\, United States
X-APPLE-STRUCTURED-LOCATION;VALUE=URI;X-ADDRESS=1000 West Colege Ave\, Silv
 er City\, New Mexico\, United States;X-APPLE-RADIUS=100;X-TITLE=WNMU Drag'
 s Court:geo:0,0
END:VEVENT
BEGIN:VTIMEZONE
TZID:America/Denver
X-LIC-LOCATION:America/Denver
BEGIN:DAYLIGHT
DTSTART:20260308T030000
TZOFFSETFROM:-0700
TZOFFSETTO:-0600
TZNAME:MDT
END:DAYLIGHT
END:VTIMEZONE
END:VCALENDAR