BEGIN:VCALENDAR
VERSION:2.0
PRODID:-//wp-events-plugin.com//7.2.3.1//EN
TZID:America/Denver
X-WR-TIMEZONE:America/Denver
BEGIN:VEVENT
UID:1-131@wnmu.edu
DTSTART;TZID=America/Denver:20260416T180000
DTEND;TZID=America/Denver:20260416T200000
DTSTAMP:20260414T181149Z
URL:https://wnmu.edu/events/great-race-59-talent-show-2/
SUMMARY:Great Race 59: Talent Show
DESCRIPTION:This event is the creme de la creme of all events. Watch as the
  teams perform on stage in the FACT for first place!
ATTACH;FMTTYPE=image/jpeg:https://wnmu.edu/wp-content/uploads/2026/03/Red-
 And-Black-Retro-Playful-Talent-Show-Flyer.jpg
CATEGORIES:Great Race
LOCATION:Fine Arts Center Theater\, 1000 W College Ave\, Silver City\, New 
 Mexico\, 88061\, United States
X-APPLE-STRUCTURED-LOCATION;VALUE=URI;X-ADDRESS=1000 W College Ave\, Silver
  City\, New Mexico\, 88061\, United States;X-APPLE-RADIUS=100;X-TITLE=Fine
  Arts Center Theater:geo:0,0
END:VEVENT
BEGIN:VTIMEZONE
TZID:America/Denver
X-LIC-LOCATION:America/Denver
BEGIN:DAYLIGHT
DTSTART:20260308T030000
TZOFFSETFROM:-0700
TZOFFSETTO:-0600
TZNAME:MDT
END:DAYLIGHT
END:VTIMEZONE
END:VCALENDAR