BEGIN:VCALENDAR
VERSION:2.0
PRODID:-//wp-events-plugin.com//7.2.3.1//EN
TZID:America/Denver
X-WR-TIMEZONE:America/Denver
BEGIN:VEVENT
UID:1-144@wnmu.edu
DTSTART;TZID=America/Denver:20260317T090000
DTEND;TZID=America/Denver:20260317T110000
DTSTAMP:20260420T205351Z
URL:https://wnmu.edu/events/wnmu-board-of-regents-to-meet-april-24/
SUMMARY:WNMU Board of Regents to Meet April 24\, 2026
DESCRIPTION:9:30 a.m. Regular Session – J. Cloyd Miller Library / Virtual
  by Livestream (https://wnmu.hosted.panopto.com/Panopto/Pages/Sessions/Lis
 t.aspx#folderID=%225adab8d0-1f22-4dc1-926e-ad6b013b0012%22) \nREGULAR SES
 SION \nI. Call to Order for Regular Session/Pledge of Allegiance \nII. A
 pproval of Agenda \nIII. Approval of Minutes of April 10\, 2026 \nIV. Pu
 blic Comments – If you are a virtual attendant and would like to make a 
 public comment during the meeting\, you may contact the Office of the Pres
 ident at 575-538-6238 or by email at president@wnmu.edu by Wednesday\, Apr
 il 22\, 2026 no later than 12:00 p.m. \nV. University President’s Repor
 t (Information) – Interim President Dr. Chris Maples \nVI. Old Business
  A. None \nVII. New Business \nA. Rank and Tenure Agreement for Dr. Jose
  Coll – Provost &amp\; VPAA Dr. Jack Crocker \nB. New Program Offerings
 \, Five-Year Plan – Provost /VPAA Dr. Jack Crocker \nC. Promotion and T
 enure – Provost /VPAA Dr. Jack Crocker \nD. Post-Tenure Review – Prov
 ost /VPAA Dr. Jack Crocker \nE. Sabbatical Leave – Provost /VPAA Dr. Ja
 ck Crocker \nF. Faculty Handbook Changes – Faculty Senate President Dr.
  Gregory Robinson-Guerra \nG. Acceptance of FY25 Final Audit Report – V
 PBA Kelley Riddle \nH. FY26 Final Budget Adjustment Request (BAR) – VPB
 A Kelley Riddle \nI. FY27 Operating Budget – VPBA Kelley Riddle \nJ. A
 nnual Asset Disposal – VPBA Kelley Riddle \nK. RFP Award for Internal A
 uditor Services (Information) – VPBA Kelley Riddle \nL. Resolution Nami
 ng the Authorized Representation of the LITEPATH Project – VPBA Kelley R
 iddle \nM. Resolution for Student Regent Scholarship – VPBA Kelley Ridd
 le \nN. Resolution Adopting Notice Procedure Pursuant to the NM Open Meet
 ings Act – Regent Chair Steven Neville \nO. Election of Officers – Re
 gent Chair Steven Neville \nVIII. Regents Information Session \nA. Board
  Closing Comments/Board Future Agenda Requests \nIX. Adjournment \nA rec
 ording of the meeting will be posted on the WNMU Board Meetings video arch
 ive webpage at: https://wnmu.hosted.panopto.com/Panopto/Pages/Sessions/Lis
 t.aspx#folderID=%225adab8d0-1f22-4dc1-926e-ad6b013b0012%22 \nMISSION\nAn 
 open-access Hispanic-Serving Institution (HSI) and New Mexico’s Applied 
 Liberal Arts and Sciences University\, Western New Mexico University combi
 nes a foundation of liberal arts education with quality professional progr
 ams and career and technical preparation in a diverse\, inclusive\, creati
 ve\, and caring community of learners empowered with the essential skills 
 and knowledge for lifelong success in work and life.\nAl ser una Instituci
 ón al Servicio de Hispanos (HSI) y de inscripción abierta\, así como la
  Universidad de Artes Liberales y Ciencias Aplicadas de Nuevo México\, We
 stern New Mexico University combina una base de educación en artes libera
 les con programas profesionales de calidad y preparación técnica en una 
 comunidaddiversa\, inclusiva\, creativa y solidaria de estudiantes capacit
 ados con habilidades y conocimientos esenciales para el éxito permanente 
 en la vida y el trabajo.\nVISION\nWestern New Mexico University is a premi
 er and innovative Applied Liberal Arts and Sciences University in combinat
 ion with internationally recognized professional programs and career and t
 echnical preparation. Its students achieve career goals\, become conscient
 ious citizens\, practice social and environmental responsibility\, and imp
 act their communities and their futures as independent thinkers who know t
 hemselves within the changing context of a global\, digital world. Embraci
 ng its identity as a Hispanic Serving Institution\, WNMU is the central co
 ntributor in its region for public service\, economic development\, and cu
 ltural enrichment.\nWestern New Mexico University es una Universidad de Ar
 tes Liberales y Ciencias Aplicadas líder e innovadora que combina program
 as profesionales reconocidosinternacionalmente y la preparación profesion
 al técnica. Sus estudiantes alcanzan metas profesionales\, formándolos e
 n ciudadanos comprometidos\, que practican la responsabilidad social y amb
 iental\, que tienen impacto en sus comunidades y en su futuro como pensado
 res críticos independientes que se conocen a sí mismos dentro delcontext
 o cambiante de un mundo global y digital. Adoptando su identidad como una 
 institución al servicio a hispanos\, WNMU es la contribuyente central en 
 su región para elservicio público\, el desarrollo económico y el enriqu
 ecimiento cultural.
ATTACH;FMTTYPE=image/jpeg:https://wnmu.edu/wp-content/uploads/2025/10/DSC0
 3740.jpg
CATEGORIES:Board of Regents Meeting
END:VEVENT
BEGIN:VTIMEZONE
TZID:America/Denver
X-LIC-LOCATION:America/Denver
BEGIN:DAYLIGHT
DTSTART:20260308T030000
TZOFFSETFROM:-0700
TZOFFSETTO:-0600
TZNAME:MDT
END:DAYLIGHT
END:VTIMEZONE
END:VCALENDAR